BEGIN:VCALENDAR
PRODID:-//Microsoft Corporation//Outlook 16.0 MIMEDIR//EN
VERSION:2.0
METHOD:PUBLISH
X-MS-OLK-FORCEINSPECTOROPEN:TRUE
BEGIN:VEVENT
CLASS:PUBLIC
CREATED:20221021T222203Z
DESCRIPTION:Pay your monthly wireless bill with your UBS Visa Signature car
	d\, and the phones on your plan are covered up to $750 per claim up to $1\
	,500 per year\, if damaged or stolen.\n
DTEND;VALUE=DATE:20221122
DTSTAMP:20221021T222203Z
DTSTART;VALUE=DATE:20221121
LAST-MODIFIED:20221021T222203Z
PRIORITY:5
SEQUENCE:0
SUMMARY;LANGUAGE=en-us:Contact your cell phone provider to set up automatic
	 payments with your UBS card
TRANSP:TRANSPARENT
UID:040000008200E00074C5B7101A82E00800000000302A668879E5D801000000000000000
	010000000DD6825E57D1B2748805005B3A13073C4

X-MICROSOFT-CDO-BUSYSTATUS:FREE
X-MICROSOFT-CDO-IMPORTANCE:1
X-MICROSOFT-DISALLOW-COUNTER:FALSE
X-MS-OLK-CONFTYPE:0
BEGIN:VALARM
TRIGGER:-PT1080M
ACTION:DISPLAY
DESCRIPTION:Reminder
END:VALARM
END:VEVENT
END:VCALENDAR
